BEGIN:VCALENDAR
PRODID:-//spiritec//spiritec media library//EN
VERSION:2.0
METHOD:PUBLISH
BEGIN:VEVENT
UID:ical-2026-06-24-1974
DTSTART:20260624T080000Z
DTSTAMP:20260421T121240Z
LOCATION:Wartburg
SUMMARY:Die Werkstatt der Schmetterlinge
DESCRIPTION:
CREATED:20260421T121240Z
DTEND:20260624T085500Z
END:VEVENT
END:VCALENDAR
