BEGIN:VCALENDAR
PRODID:-//spiritec//spiritec media library//EN
VERSION:2.0
METHOD:PUBLISH
BEGIN:VEVENT
UID:ical-2026-06-11-1973
DTSTART:20260611T080000Z
DTSTAMP:20260421T120905Z
LOCATION:Studio
SUMMARY:Das NEINhorn
DESCRIPTION:
CREATED:20260421T120905Z
DTEND:20260611T085000Z
END:VEVENT
END:VCALENDAR
