BEGIN:VCALENDAR
PRODID:-//spiritec//spiritec media library//EN
VERSION:2.0
METHOD:PUBLISH
BEGIN:VEVENT
UID:ical-2026-06-27-1972
DTSTART:20260627T173000Z
DTSTAMP:20260421T123731Z
LOCATION:Kleines Haus
SUMMARY:Leonce und Lena
DESCRIPTION:
CREATED:20260421T123731Z
DTEND:20260627T190500Z
END:VEVENT
END:VCALENDAR
