BEGIN:VCALENDAR
PRODID:-//spiritec//spiritec media library//EN
VERSION:2.0
METHOD:PUBLISH
BEGIN:VEVENT
UID:ical-2026-06-05-1970
DTSTART:20260605T173000Z
DTSTAMP:20260421T123904Z
LOCATION:Kleines Haus
SUMMARY:Leonce und Lena
DESCRIPTION:
CREATED:20260421T123904Z
DTEND:20260605T190500Z
END:VEVENT
END:VCALENDAR
