BEGIN:VCALENDAR
PRODID:-//spiritec//spiritec media library//EN
VERSION:2.0
METHOD:PUBLISH
BEGIN:VEVENT
UID:ical-2026-06-13-1969
DTSTART:20260613T173000Z
DTSTAMP:20260421T121012Z
LOCATION:Kleines Haus
SUMMARY:Jekyll & Hyde
DESCRIPTION:
CREATED:20260421T121012Z
DTEND:20260613T210000Z
END:VEVENT
END:VCALENDAR
