BEGIN:VCALENDAR
PRODID:-//spiritec//spiritec media library//EN
VERSION:2.0
METHOD:PUBLISH
BEGIN:VEVENT
UID:ical-2026-06-14-1968
DTSTART:20260614T160000Z
DTSTAMP:20260421T131200Z
LOCATION:Kleines Haus
SUMMARY:Fack ju Göhte
DESCRIPTION:
CREATED:20260421T131200Z
DTEND:20260614T160000Z
END:VEVENT
END:VCALENDAR
