BEGIN:VCALENDAR
PRODID:-//spiritec//spiritec media library//EN
VERSION:2.0
METHOD:PUBLISH
BEGIN:VEVENT
UID:ical-2026-06-25-1967
DTSTART:20260625T173000Z
DTSTAMP:20260421T131415Z
LOCATION:Kleines Haus
SUMMARY:Ciao amore!
DESCRIPTION:
CREATED:20260421T131415Z
DTEND:20260625T173000Z
END:VEVENT
END:VCALENDAR
