BEGIN:VCALENDAR
PRODID:-//spiritec//spiritec media library//EN
VERSION:2.0
METHOD:PUBLISH
BEGIN:VEVENT
UID:ical-2026-06-05-1963
DTSTART:20260605T180000Z
DTSTAMP:20260421T131200Z
LOCATION:Hessisches Landesmuseum
SUMMARY:Alte Meister
DESCRIPTION:
CREATED:20260421T131200Z
DTEND:20260605T190000Z
END:VEVENT
END:VCALENDAR
