BEGIN:VCALENDAR
PRODID:-//spiritec//spiritec media library//EN
VERSION:2.0
METHOD:PUBLISH
BEGIN:VEVENT
UID:ical-2026-10-25-1961
DTSTART:20261025T100000Z
DTSTAMP:20260423T130649Z
LOCATION:Großes Haus
SUMMARY:Herr Bello und das blaue Wunder
DESCRIPTION:
CREATED:20260423T130649Z
DTEND:20261025T100000Z
END:VEVENT
END:VCALENDAR
