BEGIN:VCALENDAR
PRODID:-//spiritec//spiritec media library//EN
VERSION:2.0
METHOD:PUBLISH
BEGIN:VEVENT
UID:ical-2026-11-06-1948
DTSTART:20261106T183000Z
DTSTAMP:20260423T130628Z
LOCATION:Großes Haus
SUMMARY:Nachtträume
DESCRIPTION:
CREATED:20260423T130628Z
DTEND:20261106T183000Z
END:VEVENT
END:VCALENDAR
