BEGIN:VCALENDAR
PRODID:-//spiritec//spiritec media library//EN
VERSION:2.0
METHOD:PUBLISH
BEGIN:VEVENT
UID:ical-2026-09-12-1947
DTSTART:20260912T173000Z
DTSTAMP:20260423T125854Z
LOCATION:Großes Haus
SUMMARY:Metropolis Wiesbaden
DESCRIPTION:
CREATED:20260423T125854Z
DTEND:20260912T173000Z
END:VEVENT
END:VCALENDAR
