BEGIN:VCALENDAR
PRODID:-//spiritec//spiritec media library//EN
VERSION:2.0
METHOD:PUBLISH
BEGIN:VEVENT
UID:ical-2027-04-03-1946
DTSTART:20270403T173000Z
DTSTAMP:20260423T125823Z
LOCATION:Großes Haus
SUMMARY:Aufstieg und Fall der Stadt Mahagonny
DESCRIPTION:
CREATED:20260423T125823Z
DTEND:20270403T173000Z
END:VEVENT
END:VCALENDAR
