BEGIN:VCALENDAR
PRODID:-//spiritec//spiritec media library//EN
VERSION:2.0
METHOD:PUBLISH
BEGIN:VEVENT
UID:ical-2027-01-23-1940
DTSTART:20270123T183000Z
DTSTAMP:20260423T130531Z
LOCATION:Großes Haus
SUMMARY:Dido and Aeneas
DESCRIPTION:
CREATED:20260423T130531Z
DTEND:20270123T183000Z
END:VEVENT
END:VCALENDAR
