BEGIN:VCALENDAR
PRODID:-//spiritec//spiritec media library//EN
VERSION:2.0
METHOD:PUBLISH
BEGIN:VEVENT
UID:ical-2027-03-13-1938
DTSTART:20270313T183000Z
DTSTAMP:20260423T125854Z
LOCATION:Großes Haus
SUMMARY:Dantons Tod
DESCRIPTION:
CREATED:20260423T125854Z
DTEND:20270313T183000Z
END:VEVENT
END:VCALENDAR
