BEGIN:VCALENDAR
PRODID:-//spiritec//spiritec media library//EN
VERSION:2.0
METHOD:PUBLISH
BEGIN:VEVENT
UID:ical-2026-08-22-1937
DTSTART:20260822T170000Z
DTSTAMP:20260423T125722Z
LOCATION:Großes Haus
SUMMARY:Carmina Burana
DESCRIPTION:
CREATED:20260423T125722Z
DTEND:20260822T170000Z
END:VEVENT
END:VCALENDAR
