BEGIN:VCALENDAR
PRODID:-//spiritec//spiritec media library//EN
VERSION:2.0
METHOD:PUBLISH
BEGIN:VEVENT
UID:ical-2026-06-21-1152
DTSTART:20260621T090000Z
DTSTAMP:20260421T131324Z
LOCATION:Wartburg
SUMMARY:Max & More Hits
DESCRIPTION:
CREATED:20260421T131324Z
DTEND:20260621T090000Z
END:VEVENT
END:VCALENDAR
