BEGIN:VCALENDAR
PRODID:-//spiritec//spiritec media library//EN
VERSION:2.0
METHOD:PUBLISH
BEGIN:VEVENT
UID:ical-2026-06-20-1151
DTSTART:20260620T130000Z
DTSTAMP:20260421T131413Z
LOCATION:Wartburg
SUMMARY:Max & More Hits
DESCRIPTION:
CREATED:20260421T131413Z
DTEND:20260620T130000Z
END:VEVENT
END:VCALENDAR
