BEGIN:VCALENDAR
PRODID:-//spiritec//spiritec media library//EN
VERSION:2.0
METHOD:PUBLISH
BEGIN:VEVENT
UID:ical-2026-06-16-1150
DTSTART:20260616T080000Z
DTSTAMP:20260421T131323Z
LOCATION:Wartburg
SUMMARY:Max & More Hits
DESCRIPTION:
CREATED:20260421T131323Z
DTEND:20260616T080000Z
END:VEVENT
END:VCALENDAR
