BEGIN:VCALENDAR
PRODID:-//spiritec//spiritec media library//EN
VERSION:2.0
METHOD:PUBLISH
BEGIN:VEVENT
UID:ical-2026-06-14-1083
DTSTART:20260614T090000Z
DTSTAMP:20260421T131209Z
LOCATION:Foyer Großes Haus
SUMMARY:7. Kammerkonzert
DESCRIPTION:
CREATED:20260421T131209Z
DTEND:20260614T090000Z
END:VEVENT
END:VCALENDAR
